Workbook

Sheet Instructions
C3: #VALUE!
C4: Budget Form for Non-UCR Contracts
C5: Budget Completion Guidance
C7: Budgets must be submitted with all Non-UCR contracts and on the Budget Form template. The budget template has three tabs which are explained below. Budgets will be approved by the Alliance Health Finance team prior to approval of contract. Once approved, revisions of 10% or more between budget categories will require prior approval of Alliance Health Finance. Please submit budgets to your Provider Network Specialist and they will coordinate with Finance for approval.
C9: BUDGET TEMPLATE TAB
C11: This Budget form must be completed and submitted by an authorized representative of your agency. Do not edit categories or override pre-set formulas.
C13: Please complete the top portion of the budget template with full provider name, program name and project number (if known).
C15: Please ensure you have entered all your revenue (if applicable) and expenses you expect to incur for this program, as the total funding amount will be what you, as a provider, are requesting Alliance Health to fund via non-UCR funds (NOT from claims.)
C17: Description of Budget Revenue Items:
C18: Please list a total of all revenue that supports the costs of this program OUTSIDE of funding you expect to receive from Alliance Health. Enter revenue as a positive number. Below are some examples of revenue outside of Alliance Health:
C20: Fee for Service (IPRS):
C21: Please include fee for service IPRS revenue generated that support the costs of this program. These are funds anticipated from State claims.
C23: Fee for Service (Medicaid):
... C69: This form is used to provide explanations and justifications for budgeted expense items.

Sheet Budget Template
C3: #VALUE!
C5: FY27 Budget Form for Non-UCR Contracts
C6: Budget Template
D8: Provider Name
D9: Project Number (from SOW in Contract)
D10: Program Name
G12: ORIGINAL BUDGET | I12: REVISED BUDGET
D14: Revenues | I14: Revenues
D15: List ONLY total revenue that is outside of Alliance funding. | G15: Anticipated Revenue Formatted to display as a negative number - don't type in (-) negative sign | I15: Anticipated Revenue Formatted to display as a negative number - don't type in (-) negative sign | K15: PERCENT CHANGE
E16: Fee for Service (IPRS) | G16: 0 | I16: 0 | K16: =IF(G16+I16=0,"",IF(G16=I16,"",IF(G16=0,"100%",IF(I16-G16<>0,(I16-G16)/G16)))) | L16: =IF(ABS((I17-G16)/G16)>10%,"Needs Finance Approval","OK") -> #DIV/0! | M16: =IF(AND(K16=0,K16>10%),"Needs Finance Approval","")
E17: Fee for Service (Medicaid) | G17: 0 | I17: 0 | K17: =IF(G17+I17=0,"",IF(G17=I17,"",IF(G17=0,"100%",IF(I17-G17<>0,(I17-G17)/G17)))) | L17: =IF(ABS((I18-G17)/G17)>10%,"Needs Finance Approval","OK") -> #DIV/0!
E18: Private Insurance/3rd Party Pay | G18: 0 | I18: 0 | K18: =IF(G18+I18=0,"",IF(G18=I18,"",IF(G18=0,"100%",IF(I18-G18<>0,(I18-G18)/G18)))) | L18: =IF(ABS((I19-G18)/G18)>10%,"Needs Finance Approval","OK") -> #DIV/0!
E19: Client Co-Pays | G19: 0 | I19: 0 | K19: =IF(G19+I19=0,"",IF(G19=I19,"",IF(G19=0,"100%",IF(I19-G19<>0,(I19-G19)/G19)))) | L19: =IF(ABS((I20-G19)/G19)>10%,"Needs Finance Approval","OK") -> #DIV/0!
E20: Contributions | G20: 0 | I20: 0 | K20: =IF(G20+I20=0,"",IF(G20=I20,"",IF(G20=0,"100%",IF(I20-G20<>0,(I20-G20)/G20)))) | L20: =IF(ABS((#REF!-G20)/G20)>10%,"Needs Finance Approval","OK") -> #REF!
E21: Miscellaneous | G21: 0 | I21: 0 | K21: =IF(G21+I21=0,"",IF(G21=I21,"",IF(G21=0,"100%",IF(I21-G21<>0,(I21-G21)/G21)))) | L21: =IF(ABS((I21-G21)/G21)>10%,"Needs Finance Approval","OK") -> #DIV/0!
D22: Total Revenue From All Sources | G22: =SUM(G16:G21) -> 0 | I22: =SUM(I16:I21) -> 0 | K22: =IF(G22+I22=0,"",IF(G22=I22,"",IF(G22=0,"100%",IF(I22-G22<>0,(I22-G22)/G22)))) | L22: =IF(ABS((I22-G22)/G22)>10%,"Needs Finance Approval","OK") -> #DIV/0!
D24: Expenses | I24: Expenses
D25: Expense Categories | G25: Budget Amount Formatted to display as a positive number | I25: Budget Amount Formatted to display as a positive number | K25: PERCENT CHANGE
E26: Salaries/Wages/Benefits See Personnel Costs Tab | G26: 0 | I26: 0 | K26: =IF(G26+I26=0,"",IF(G26=I26,"",IF(G26=0,"100%",IF(I26-G26<>0,(I26-G26)/G26)))) | L26: =IF(ABS((I26-G26)/G26)>10%,"Needs Finance Approval","OK") -> #DIV/0!
E27: Travel/Staff Lodging/Meals | G27: 0 | I27: 0 | K27: =IF(G27+I27=0,"",IF(G27=I27,"",IF(G27=0,"100%",IF(I27-G27<>0,(I27-G27)/G27)))) | L27: =IF(ABS((I27-G27)/G27)>10%,"Needs Finance Approval","OK") -> #DIV/0!
E28: Client Assistance/Activities | G28: 0 | I28: 0 | K28: =IF(G28+I28=0,"",IF(G28=I28,"",IF(G28=0,"100%",IF(I28-G28<>0,(I28-G28)/G28)))) | L28: =IF(ABS((I28-G28)/G28)>10%,"Needs Finance Approval","OK") -> #DIV/0!
E29: Building Repair & Maintenance | G29: 0 | I29: 0 | K29: =IF(G29+I29=0,"",IF(G29=I29,"",IF(G29=0,"100%",IF(I29-G29<>0,(I29-G29)/G29)))) | L29: =IF(ABS((I29-G29)/G29)>10%,"Needs Finance Approval","OK") -> #DIV/0!
E30: Communications | G30: 0 | I30: 0 | K30: =IF(G30+I30=0,"",IF(G30=I30,"",IF(G30=0,"100%",IF(I30-G30<>0,(I30-G30)/G30)))) | L30: =IF(ABS((I30-G30)/G30)>10%,"Needs Finance Approval","OK") -> #DIV/0!
E31: Consulting/Professional/Legal Service/Fees | G31: 0 | I31: 0 | K31: =IF(G31+I31=0,"",IF(G31=I31,"",IF(G31=0,"100%",IF(I31-G31<>0,(I31-G31)/G31)))) | L31: =IF(ABS((I31-G31)/G31)>10%,"Needs Finance Approval","OK") -> #DIV/0!
E32: Dues and Subscriptions | G32: 0 | I32: 0 | K32: =IF(G32+I32=0,"",IF(G32=I32,"",IF(G32=0,"100%",IF(I32-G32<>0,(I32-G32)/G32)))) | L32: =IF(ABS((I32-G32)/G32)>10%,"Needs Finance Approval","OK") -> #DIV/0!
E33: Insurance - Motor Vehicle | G33: 0 | I33: 0 | K33: =IF(G33+I33=0,"",IF(G33=I33,"",IF(G33=0,"100%",IF(I33-G33<>0,(I33-G33)/G33)))) | L33: =IF(ABS((I33-G33)/G33)>10%,"Needs Finance Approval","OK") -> #DIV/0!
E34: Insurance - Property and Liability | G34: 0 | I34: 0 | K34: =IF(G34+I34=0,"",IF(G34=I34,"",IF(G34=0,"100%",IF(I34-G34<>0,(I34-G34)/G34)))) | L34: =IF(ABS((I34-G34)/G34)>10%,"Needs Finance Approval","OK") -> #DIV/0!
E35: Meeting/Conference Expense | G35: 0 | I35: 0 | K35: =IF(G35+I35=0,"",IF(G35=I35,"",IF(G35=0,"100%",IF(I35-G35<>0,(I35-G35)/G35)))) | L35: =IF(ABS((I35-G35)/G35)>10%,"Needs Finance Approval","OK") -> #DIV/0!
E36: Office Equipment Rental (Phone/Computer) | G36: 0 | I36: 0 | K36: =IF(G36+I36=0,"",IF(G36=I36,"",IF(G36=0,"100%",IF(I36-G36<>0,(I36-G36)/G36)))) | L36: =IF(ABS((I36-G36)/G36)>10%,"Needs Finance Approval","OK") -> #DIV/0!
E37: Office/Equipment Repair & Maintenance | G37: 0 | I37: 0 | K37: =IF(G37+I37=0,"",IF(G37=I37,"",IF(G37=0,"100%",IF(I37-G37<>0,(I37-G37)/G37)))) | L37: =IF(ABS((I37-G37)/G37)>10%,"Needs Finance Approval","OK") -> #DIV/0!
... E46: Vehicle Rental | G46: 0 | I46: 0 | K46: =IF(G46+I46=0,"",IF(G46=I46,"",IF(G46=0,"100%",IF(I46-G46<>0,(I46-G46)/G46)))) | L46: =IF(ABS((I46-G46)/G46)>10%,"Needs Finance Approval","OK") -> #DIV/0!
E47: Provider Specific Expenses (add below) | K47: =IF(G47+I47=0,"",IF(G47=I47,"",IF(G47=0,"100%",IF(I47-G47<>0,(I47-G47)/G47)))) | L47: =IF(ABS((I47-G47)/G47)>10%,"Needs Finance Approval","OK") -> #DIV/0!
G48: 0 | I48: 0 | K48: =IF(G48+I48=0,"",IF(G48=I48,"",IF(G48=0,"100%",IF(I48-G48<>0,(I48-G48)/G48)))) | L48: =IF(ABS((I48-G48)/G48)>10%,"Needs Finance Approval","OK") -> #DIV/0!
G49: 0 | I49: 0 | K49: =IF(G49+I49=0,"",IF(G49=I49,"",IF(G49=0,"100%",IF(I49-G49<>0,(I49-G49)/G49)))) | L49: =IF(ABS((I49-G49)/G49)>10%,"Needs Finance Approval","OK") -> #DIV/0!
G50: 0 | I50: 0 | K50: =IF(G50+I50=0,"",IF(G50=I50,"",IF(G50=0,"100%",IF(I50-G50<>0,(I50-G50)/G50)))) | L50: =IF(ABS((I50-G50)/G50)>10%,"Needs Finance Approval","OK") -> #DIV/0!
G51: 0 | I51: 0 | K51: =IF(G51+I51=0,"",IF(G51=I51,"",IF(G51=0,"100%",IF(I51-G51<>0,(I51-G51)/G51)))) | L51: =IF(ABS((I51-G51)/G51)>10%,"Needs Finance Approval","OK") -> #DIV/0!
G52: 0 | I52: 0 | K52: =IF(G52+I52=0,"",IF(G52=I52,"",IF(G52=0,"100%",IF(I52-G52<>0,(I52-G52)/G52)))) | L52: =IF(ABS((I52-G52)/G52)>10%,"Needs Finance Approval","OK") -> #DIV/0!
G53: 0 | I53: 0 | K53: =IF(G53+I53=0,"",IF(G53=I53,"",IF(G53=0,"100%",IF(I53-G53<>0,(I53-G53)/G53)))) | L53: =IF(ABS((I53-G53)/G53)>10%,"Needs Finance Approval","OK") -> #DIV/0!
G54: 0 | I54: 0 | K54: =IF(G54+I54=0,"",IF(G54=I54,"",IF(G54=0,"100%",IF(I54-G54<>0,(I54-G54)/G54)))) | L54: =IF(ABS((I54-G54)/G54)>10%,"Needs Finance Approval","OK") -> #DIV/0!
D55: Sub-Total Expenses | G55: =SUM(G26:G54) -> 0 | I55: =SUM(I26:I54) -> 0 | K55: =IF(G55+I55=0,"",IF(G55=I55,"",IF(G55=0,"100%",IF(I55-G55<>0,(I55-G55)/G55)))) | L55: =IF(ABS((I55-G55)/G55)>10%,"Needs Finance Approval","OK") -> #DIV/0!
...

Sheet Personnel Costs
C3: #VALUE!
C5: Budget Form for Non-UCR Contracts
C6: Personnel Costs
C8: Provider Name: | D8: =IF('Budget Template'!G8="","",'Budget Template'!G8)
C9: Program Name: | D9: =IF('Budget Template'!G10="","",'Budget Template'!G10)
C11: If your budget includes Personnel costs (Salaries/Wages/Benefits), complete below:
C12: Include amounts charged to this contract.
C13: NOTE: Contract Labor should be budgeted as a separate expense line item
C15: Employee Name and/or Position Title | D15: Type of Licensure * | E15: License Number * | F15: FTEs ** | G15: Salary or Wages | H15: Benefits | I15: Total
I16: =G16+H16 -> 0
I17: =G17+H17 -> 0
I18: =G18+H18 -> 0
I19: =G19+H19 -> 0
I20: =G20+H20 -> 0
I21: =G21+H21 -> 0
I22: =G22+H22 -> 0
I23: =G23+H23 -> 0
I24: =G24+H24 -> 0
I25: =G25+H25 -> 0
I26: =G26+H26 -> 0
I27: =G27+H27 -> 0
... I29: =G29+H29 -> 0
C30: TOTAL | G30: =SUM(G16:G29) -> 0 | H30: =SUM(H16:H29) -> 0 | I30: =+G30+H30 -> 0
C32: * If licensure is required by this contract or the service being funded.
C33: ** Of the employee's total work hours, FTEs funded through this contract.

Sheet Narrative
C3: #VALUE!
C5: Budget Form for Non-UCR Contracts
C6: Narrative
C8: Provider Name: | D8: =IF('Budget Template'!G8="","",'Budget Template'!G8)
C9: Program Name: | D9: =IF('Budget Template'!G10="","",'Budget Template'!G10)
C11: Please provide explanations and justifications for budget expenses below:
C13: Budget Line Item Description | D13: Explanation and Justification

Sheet Dropdown Options
A1: Narrative
A3: Salaries/Wages/Benefits
A4: Travel/Staff Lodging/Meals
A5: Client Assistance/Activities
A6: Building Repair & Maintenance
A7: Communications
A8: Consulting/Professional/Legal Service/Fees
A9: Dues and Subscriptions
A10: Insurance - Motor Vehicle
A11: Insurance - Property and Liability
A12: Meeting/Conference Expense
A13: Office Equipment Rental (Phone/Computer)
... A23: Vehicle Rental
A24: =CONCATENATE("Provider Specific Expenses - ",'Budget Template'!E48) -> Provider Specific Expenses -
A25: =CONCATENATE("Provider Specific Expenses - ",'Budget Template'!E49) -> Provider Specific Expenses -
A26: =CONCATENATE("Provider Specific Expenses - ",'Budget Template'!E50) -> Provider Specific Expenses -
A27: =CONCATENATE("Provider Specific Expenses - ",'Budget Template'!E51) -> Provider Specific Expenses -
A28: =CONCATENATE("Provider Specific Expenses - ",'Budget Template'!E52) -> Provider Specific Expenses -
A29: =CONCATENATE("Provider Specific Expenses - ",'Budget Template'!E53) -> Provider Specific Expenses -
A30: =CONCATENATE("Provider Specific Expenses - ",'Budget Template'!E54) -> Provider Specific Expenses -
A31: Overhead
